BEGIN:VCALENDAR
VERSION:2.0
PRODID:-//ATA Educators Division - ECPv6.15.20//NONSGML v1.0//EN
CALSCALE:GREGORIAN
METHOD:PUBLISH
X-WR-CALNAME:ATA Educators Division
X-ORIGINAL-URL:https://ataeducatorsdivision.org
X-WR-CALDESC:Events for ATA Educators Division
REFRESH-INTERVAL;VALUE=DURATION:PT1H
X-Robots-Tag:noindex
X-PUBLISHED-TTL:PT1H
BEGIN:VTIMEZONE
TZID:America/Los_Angeles
BEGIN:DAYLIGHT
TZOFFSETFROM:-0800
TZOFFSETTO:-0700
TZNAME:PDT
DTSTART:20240310T100000
END:DAYLIGHT
BEGIN:STANDARD
TZOFFSETFROM:-0700
TZOFFSETTO:-0800
TZNAME:PST
DTSTART:20241103T090000
END:STANDARD
BEGIN:DAYLIGHT
TZOFFSETFROM:-0800
TZOFFSETTO:-0700
TZNAME:PDT
DTSTART:20250309T100000
END:DAYLIGHT
BEGIN:STANDARD
TZOFFSETFROM:-0700
TZOFFSETTO:-0800
TZNAME:PST
DTSTART:20251102T090000
END:STANDARD
BEGIN:DAYLIGHT
TZOFFSETFROM:-0800
TZOFFSETTO:-0700
TZNAME:PDT
DTSTART:20260308T100000
END:DAYLIGHT
BEGIN:STANDARD
TZOFFSETFROM:-0700
TZOFFSETTO:-0800
TZNAME:PST
DTSTART:20261101T090000
END:STANDARD
END:VTIMEZONE
BEGIN:VTIMEZONE
TZID:America/Tijuana
BEGIN:DAYLIGHT
TZOFFSETFROM:-0800
TZOFFSETTO:-0700
TZNAME:PDT
DTSTART:20240310T100000
END:DAYLIGHT
BEGIN:STANDARD
TZOFFSETFROM:-0700
TZOFFSETTO:-0800
TZNAME:PST
DTSTART:20241103T090000
END:STANDARD
BEGIN:DAYLIGHT
TZOFFSETFROM:-0800
TZOFFSETTO:-0700
TZNAME:PDT
DTSTART:20250309T100000
END:DAYLIGHT
BEGIN:STANDARD
TZOFFSETFROM:-0700
TZOFFSETTO:-0800
TZNAME:PST
DTSTART:20251102T090000
END:STANDARD
BEGIN:DAYLIGHT
TZOFFSETFROM:-0800
TZOFFSETTO:-0700
TZNAME:PDT
DTSTART:20260308T100000
END:DAYLIGHT
BEGIN:STANDARD
TZOFFSETFROM:-0700
TZOFFSETTO:-0800
TZNAME:PST
DTSTART:20261101T090000
END:STANDARD
END:VTIMEZONE
BEGIN:VTIMEZONE
TZID:UTC
BEGIN:STANDARD
TZOFFSETFROM:+0000
TZOFFSETTO:+0000
TZNAME:UTC
DTSTART:20210101T000000
END:STANDARD
END:VTIMEZONE
BEGIN:VTIMEZONE
TZID:America/New_York
BEGIN:DAYLIGHT
TZOFFSETFROM:-0500
TZOFFSETTO:-0400
TZNAME:EDT
DTSTART:20220313T070000
END:DAYLIGHT
BEGIN:STANDARD
TZOFFSETFROM:-0400
TZOFFSETTO:-0500
TZNAME:EST
DTSTART:20221106T060000
END:STANDARD
BEGIN:DAYLIGHT
TZOFFSETFROM:-0500
TZOFFSETTO:-0400
TZNAME:EDT
DTSTART:20230312T070000
END:DAYLIGHT
BEGIN:STANDARD
TZOFFSETFROM:-0400
TZOFFSETTO:-0500
TZNAME:EST
DTSTART:20231105T060000
END:STANDARD
BEGIN:DAYLIGHT
TZOFFSETFROM:-0500
TZOFFSETTO:-0400
TZNAME:EDT
DTSTART:20240310T070000
END:DAYLIGHT
BEGIN:STANDARD
TZOFFSETFROM:-0400
TZOFFSETTO:-0500
TZNAME:EST
DTSTART:20241103T060000
END:STANDARD
END:VTIMEZONE
BEGIN:VTIMEZONE
TZID:America/Halifax
BEGIN:DAYLIGHT
TZOFFSETFROM:-0400
TZOFFSETTO:-0300
TZNAME:ADT
DTSTART:20200308T060000
END:DAYLIGHT
BEGIN:STANDARD
TZOFFSETFROM:-0300
TZOFFSETTO:-0400
TZNAME:AST
DTSTART:20201101T050000
END:STANDARD
BEGIN:DAYLIGHT
TZOFFSETFROM:-0400
TZOFFSETTO:-0300
TZNAME:ADT
DTSTART:20210314T060000
END:DAYLIGHT
BEGIN:STANDARD
TZOFFSETFROM:-0300
TZOFFSETTO:-0400
TZNAME:AST
DTSTART:20211107T050000
END:STANDARD
BEGIN:DAYLIGHT
TZOFFSETFROM:-0400
TZOFFSETTO:-0300
TZNAME:ADT
DTSTART:20220313T060000
END:DAYLIGHT
BEGIN:STANDARD
TZOFFSETFROM:-0300
TZOFFSETTO:-0400
TZNAME:AST
DTSTART:20221106T050000
END:STANDARD
END:VTIMEZONE
BEGIN:VEVENT
DTSTART;TZID=America/Los_Angeles:20250917T120000
DTEND;TZID=America/Los_Angeles:20250917T130000
DTSTAMP:20260423T174142
CREATED:20250829T212836Z
LAST-MODIFIED:20250829T212836Z
UID:8378-1758110400-1758114000@ataeducatorsdivision.org
SUMMARY:ATAEd Division Annual Meeting
DESCRIPTION:ATA Educators Divisions will hold its annual meeting to discuss new developments and ideas\, while offering an opportunity to connect with colleagues who share common languages or specialties. Register here!
URL:https://ataeducatorsdivision.org/event/ataed-division-annual-meeting/
LOCATION:Zoom
CATEGORIES:Division Meetings
END:VEVENT
BEGIN:VEVENT
DTSTART;TZID=America/Tijuana:20250716T120000
DTEND;TZID=America/Tijuana:20250716T130000
DTSTAMP:20260423T174142
CREATED:20250716T213259Z
LAST-MODIFIED:20250714T215025Z
UID:8357-1752667200-1752670800@ataeducatorsdivision.org
SUMMARY:Educators Division Virtal Social Hour - July 2025
DESCRIPTION:Take a break and connect with fellow educators in translation during our informal virtual social hour this month. No set agenda—just an open space to chat\, share updates\, swap ideas\, or simply unwind together. Bring your favorite beverage and let the conversation flow wherever our members take it. We look forward to seeing you there! \nA Zoom link to join will be provided roughly 24 hours before the event. \nRSVP Here
URL:https://ataeducatorsdivision.org/event/educators-division-virtal-social-hour-july-2025/
LOCATION:Zoom
CATEGORIES:Division Meetings
END:VEVENT
BEGIN:VEVENT
DTSTART;TZID=UTC:20250521T120000
DTEND;TZID=UTC:20250521T130000
DTSTAMP:20260423T174142
CREATED:20250501T155950Z
LAST-MODIFIED:20250501T163040Z
UID:8318-1747828800-1747832400@ataeducatorsdivision.org
SUMMARY:Educators Division Virtual Social May 2025
DESCRIPTION:Join ATA’s Educators Division for an informal online social hour to brainstorm and discuss the current status of the division\, share your ideas for future initiatives\, and explore the latest developments in T&I pedagogy. As the academic year comes to an end\, let’s talk and dive into an essential topic: Assessment in T&I education. We’ll explore questions such as: \n\nHow do you design assessments that reflect real-world T&I work?\nWhat rubrics or criteria have been most effective in your courses?\nHow do you balance assessing linguistic accuracy with professional competencies?\nWhat role does self- and peer-assessment play in your classroom?\n\nA Zoom link to join will be provided roughly 24 hours before the event. \nPLEASE RSVP HERE
URL:https://ataeducatorsdivision.org/event/educators-division-virtual-social-may-2025/
LOCATION:Zoom
CATEGORIES:Division Meetings
END:VEVENT
BEGIN:VEVENT
DTSTART;TZID=America/New_York:20230921T190000
DTEND;TZID=America/New_York:20230921T193000
DTSTAMP:20260423T174142
CREATED:20230920T071633Z
LAST-MODIFIED:20230920T072502Z
UID:3390-1695322800-1695324600@ataeducatorsdivision.org
SUMMARY:2023 Annual Ed Division Meeting
DESCRIPTION:ATA Divisions hold their annual meetings to discuss new developments and ideas\, while offering a chance to connect with colleagues sharing common languages or specialties. \n  \nHow to attend \nDivision Annual Meetings are open to division members only. \nTo find Ed Division’s annual meeting Zoom link\, Click Here.  \nAll times are Eastern Time (ET).
URL:https://ataeducatorsdivision.org/event/2023-annual-ad-division-meeting/
LOCATION:Zoom
CATEGORIES:Division Meetings
END:VEVENT
BEGIN:VEVENT
DTSTART;VALUE=DATE:20221013
DTEND;VALUE=DATE:20221015
DTSTAMP:20260423T174142
CREATED:20221007T210639Z
LAST-MODIFIED:20221007T210639Z
UID:3109-1665619200-1665791999@ataeducatorsdivision.org
SUMMARY:ATA63 Conference
DESCRIPTION:
URL:https://ataeducatorsdivision.org/event/ata63-conference/
END:VEVENT
BEGIN:VEVENT
DTSTART;TZID=America/Halifax:20211009T103000
DTEND;TZID=America/Halifax:20211009T113000
DTSTAMP:20260423T174142
CREATED:20211015T233226Z
LAST-MODIFIED:20211015T233339Z
UID:3029-1633775400-1633779000@ataeducatorsdivision.org
SUMMARY:2021 Annual Ed Division Meeting
DESCRIPTION:Educators Division (EdD)\nSaturday\, October 9\, 10:30AM – 11:30AM EDT\nhttps://us02web.zoom.us/j/85823330671?pwd=RzZxd2VjdnVMV2NFYkhZZmJRT3didz09
URL:https://ataeducatorsdivision.org/event/2021-annual-ed-division-meeting/
END:VEVENT
END:VCALENDAR